BEGIN:VCALENDAR
VERSION:2.0
PRODID:-//InvisionCommunity Events 4.7.17//EN
METHOD:PUBLISH
CALSCALE:GREGORIAN
REFRESH-INTERVAL:PT15M
X-PUBLISHED-TTL:PT15M
X-WR-CALNAME:Community Calendar
NAME:Community Calendar
BEGIN:VTIMEZONE
TZID:Europe/London
TZURL:http://tzurl.org/zoneinfo/Europe/London
X-LIC-LOCATION:Europe/London
BEGIN:DAYLIGHT
TZOFFSETFROM:+0000
TZOFFSETTO:+0100
TZNAME:BST
DTSTART:20170326T020000Z
RRULE:FREQ=YEARLY;BYMONTH=3;BYDAY=-1SU
END:DAYLIGHT
BEGIN:STANDARD
TZOFFSETFROM:+0100
TZOFFSETTO:+0000
TZNAME:GMT
DTSTART:20171029T020000Z
RRULE:FREQ=YEARLY;BYMONTH=10;BYDAY=-1SU
END:STANDARD
END:VTIMEZONE
BEGIN:VEVENT
SUMMARY:touran
DTSTAMP:20170211T190654Z
SEQUENCE:0
UID:1-1-a2a1468b9cbea913f93b0b9b1584197a@forum-auto.ro
ORGANIZER;CN="ion":noreply@forum-auto.ro
DESCRIPTION:\n	salut  ma ajuta  cineva si pe mine am un touran 2003  
	cand lam kumparat  an  anul 2007 avea la bord  75000km dar akuma  am 
	 345000 merge  super  dar  am  o  problema  cand pornesc  soba  
	pe  ancalzire  si  stau parcat    nu pot  sa  stau  an  interio
	r  ami  baga  gaze .poate  trebue  sai  skimb  ceva   va  multume
	sc\n
DTSTART;VALUE=DATE:20170211
END:VEVENT
END:VCALENDAR
